BEGIN:VCALENDAR
VERSION:2.0
PRODID:-//МБУК МКЦ - ECPv4.6.12//NONSGML v1.0//EN
CALSCALE:GREGORIAN
METHOD:PUBLISH
X-WR-CALNAME:МБУК МКЦ
X-ORIGINAL-URL:https://zmkc.ru
X-WR-CALDESC:Events for МБУК МКЦ
BEGIN:VEVENT
DTSTART;TZID=UTC+4:20210422T140000
DTEND;TZID=UTC+4:20210422T163000
DTSTAMP:20260422T102346
CREATED:20210407T032345Z
LAST-MODIFIED:20210407T032345Z
UID:5839-1619100000-1619109000@zmkc.ru
SUMMARY:Конкурс-фестиваль «Мы за здоровую альтернативу».
DESCRIPTION:В наше время спорт активно внедряется в различные сферы жизни и для самых разнообразных аудиторий. Многофункциональный культурный центр ежегодно проводит городской конкурс- фестиваль «Мы за здоровую альтернативу» в рамках акции «Мы за здоровое будущее! Присоединяйся к нам!» В соревнованиях принимают участие все школы города. От каждой школы выступает две команды: основная команда спортсменов и команда болельщиков. В то время пока спортсмены проходят маршрут по станциям\, команда болельщиков показывает свое домашнее задание. В этом году темой стало 170-летие Самарской губернии. Соревнования становятся настоящим праздником спорта\, здоровья и молодости! Ребята понимают: чтобы завоевать победу – мало быть просто физически сильным. Необходимо при этом обладать достаточной целеустремленностью\, силой воли\, быть организованным и собранным\, ловким и находчивым. \n
URL:https://zmkc.ru/event/konkurs-festival-myi-za-zdorovuyu-alternativu-2/
ATTACH;FMTTYPE=image/jpeg:https://zmkc.ru/wp-content/uploads/2021/04/I19Som4LjSE.jpg
END:VEVENT
END:VCALENDAR