BEGIN:VCALENDAR
VERSION:2.0
PRODID:-//МБУК МКЦ - ECPv4.6.12//NONSGML v1.0//EN
CALSCALE:GREGORIAN
METHOD:PUBLISH
X-WR-CALNAME:МБУК МКЦ
X-ORIGINAL-URL:https://zmkc.ru
X-WR-CALDESC:Events for МБУК МКЦ
BEGIN:VEVENT
DTSTART;VALUE=DATE:20200411
DTEND;VALUE=DATE:20200420
DTSTAMP:20260422T151656
CREATED:20200411T050330Z
LAST-MODIFIED:20200411T053521Z
UID:4598-1586563200-1587340799@zmkc.ru
SUMMARY:Конкурс для поклонников мультфильма "Тролли".
DESCRIPTION:Многофункциональный культурный центр проводит специальный конкурс от Розочки и Мистера Облачко — любимых героев большинства детей\, а также  многих взрослых. \nКонкурс проходит по трем номинациям: \n1. Рисунок (любимый герой из м/ф «Тролли»)\n2. Поделка (любимый герой из м/ф «Тролли»)\n3. Косплей (любимый герой из м/ф «Тролли»)\nПОДПИСАННЫЕ фотографии (имя\, фамилия\, возраст и название работы и номинация) нужно присылать  в личные сообщения на страницу в контакте:  https://vk.com/idyubileyniydk до 19 апреля включительно\nКоличество работ от каждого участника не ограничено!\nМожно участвовать во всех номинациях!\nПобедитель в каждой номинации получит диплом от МБУК «МКЦ» и подарок от наших друзей:\n-Магазина «Хобби-бум» ;\n-Магазина «Ассорти» ;\n-ДЦ «Смайлик» ;\n-Антикафе «Like» .\n20 апреля мы объявим победителей!\nСсылка на альбом  https://vk.com/album190740566_273203751 . \n \n
URL:https://zmkc.ru/event/konkurs-dlya-poklonnikov-multfilma-trolli/
LOCATION:Никитина 9\, Яблоневый Овраг\, Российская Федерация
END:VEVENT
END:VCALENDAR