BEGIN:VCALENDAR
VERSION:2.0
PRODID:-//МБУК МКЦ - ECPv4.6.12//NONSGML v1.0//EN
CALSCALE:GREGORIAN
METHOD:PUBLISH
X-WR-CALNAME:МБУК МКЦ
X-ORIGINAL-URL:https://zmkc.ru
X-WR-CALDESC:Events for МБУК МКЦ
BEGIN:VEVENT
DTSTART;TZID=UTC+4:20240903T120000
DTEND;TZID=UTC+4:20240903T130000
DTSTAMP:20260422T212022
CREATED:20240831T062755Z
LAST-MODIFIED:20240831T062755Z
UID:8682-1725364800-1725368400@zmkc.ru
SUMMARY:Классный час «День солидарности в борьбе с терроризмом»
DESCRIPTION:
URL:https://zmkc.ru/event/klassnyiy-chas-den-solidarnosti-v-borbe-s-terrorizmom/
LOCATION:ул.Никитина\, д.18\, Жигулевск\, Самарская область\, Российская Федерация
END:VEVENT
END:VCALENDAR