BEGIN:VCALENDAR
VERSION:2.0
PRODID:-//МБУК МКЦ - ECPv4.6.12//NONSGML v1.0//EN
CALSCALE:GREGORIAN
METHOD:PUBLISH
X-WR-CALNAME:МБУК МКЦ
X-ORIGINAL-URL:https://zmkc.ru
X-WR-CALDESC:Events for МБУК МКЦ
BEGIN:VEVENT
DTSTART;TZID=UTC+4:20260430T200000
DTEND;TZID=UTC+4:20260430T220000
DTSTAMP:20260422T142101
CREATED:20260422T083530Z
LAST-MODIFIED:20260422T083530Z
UID:9766-1777579200-1777586400@zmkc.ru
SUMMARY:Караоке-вечер «Мир. Труд. Песня»
DESCRIPTION:Забудьте о скучных посиделках — 30 апреля арт-парк «ПроСвет» превратится в главную музыкальную площадку Жигулевска. Молодые таланты нашего города уже разогревают связки\, чтобы исполнить любимые хиты вместе с вами! \nЧто вас ждет:\n⦁ Живой звук и мощная энергетика.\n⦁ Любимые песни\, которые знает каждый.\n⦁ Крутая компания и весенний вайб арт-парка. \nНе важно\, поешь ты как профи или только в душе — здесь важен драйв и твое настроение! \n📚 📍 Где и когда встречаемся? \n⦁ Место: Арт-парк «ПроСвет» (ДК Колокольчик\, ул. Промышленная\, 7)\n⦁ Дата: 30 апреля (четверг)\n⦁ Время: 20:00 \nВход свободный! Бери друзей\, хорошее настроение и приходи подпевать лучшим голосам Жигулевска. \nМир. Труд. Песня — идеальная формула твоего вечера! \n
URL:https://zmkc.ru/event/karaoke-vecher-mir-trud-pesnya/
LOCATION:ул.Промышленная\, д.7\, Жигулевск\, Самарская область\, 445354\, Российская Федерация
ATTACH;FMTTYPE=image/jpeg:https://zmkc.ru/wp-content/uploads/2026/04/IMG_20260421_103722_712.jpg
END:VEVENT
END:VCALENDAR