BEGIN:VCALENDAR
VERSION:2.0
PRODID:-//МБУК МКЦ - ECPv4.6.12//NONSGML v1.0//EN
CALSCALE:GREGORIAN
METHOD:PUBLISH
X-WR-CALNAME:МБУК МКЦ
X-ORIGINAL-URL:https://zmkc.ru
X-WR-CALDESC:Events for МБУК МКЦ
BEGIN:VEVENT
DTSTART;VALUE=DATE:20200619
DTEND;VALUE=DATE:20200626
DTSTAMP:20260422T144711
CREATED:20200619T141326Z
LAST-MODIFIED:20200619T141326Z
UID:4906-1592524800-1593129599@zmkc.ru
SUMMARY:Интернет – флешмоб «Папе посвящается…»
DESCRIPTION:Флешмоб проходит на странице Вконтакте МБУК «МКЦ». \nЕжегодно\, в третье воскресенье июня\, во многих странах отмечают День Отца. В преддверии праздника\, МБУК «МКЦ» предлагаем всем желающим принять участие в необычном флешмобе. Для этого нужно: \n1.     Создать надпись: «Папа»\, «Я люблю папу»\, «Папа\, я тебя люблю»\, используя различные техники и материалы. \n2.        Разместить фотографию на своей странице в соцсетях с хештегами: #деньотцажигулевск\, #папа2020жигулевск. \n3.        Ссылку на фото прислать в личные сообщения МБУК «МКЦ» (ДК «Юбилейный»). \nЧем интереснее и креативнее будет надпись\, тем больше шансов на победу. Самый находчивый получит Диплом победителя от Многофункционального культурного центра и медаль «За любовь к папе»  от пряничной феи Елены Леончук. Все остальные будут награждены дипломами участников. \n
URL:https://zmkc.ru/event/internet-fleshmob-pape-posvyashhaetsya/
LOCATION:Никитина 9\, Яблоневый Овраг\, Российская Федерация
ATTACH;FMTTYPE=image/jpeg:https://zmkc.ru/wp-content/uploads/2020/06/ZtpxrOukC-U.jpg
END:VEVENT
END:VCALENDAR