BEGIN:VCALENDAR
VERSION:2.0
PRODID:-//МБУК МКЦ - ECPv4.6.12//NONSGML v1.0//EN
CALSCALE:GREGORIAN
METHOD:PUBLISH
X-WR-CALNAME:МБУК МКЦ
X-ORIGINAL-URL:https://zmkc.ru
X-WR-CALDESC:Events for МБУК МКЦ
BEGIN:VEVENT
DTSTART;TZID=UTC+0:20190507T080000
DTEND;TZID=UTC+0:20190507T170000
DTSTAMP:20260425T010518
CREATED:20190418T054341Z
LAST-MODIFIED:20190418T054341Z
UID:2615-1557216000-1557248400@zmkc.ru
SUMMARY:Интерактивная программа «Как это было»
DESCRIPTION:
URL:https://zmkc.ru/event/interaktivnaya-programma-kak-eto-byilo-2/
LOCATION:Жигулевск
END:VEVENT
END:VCALENDAR