BEGIN:VCALENDAR
VERSION:2.0
PRODID:-//МБУК МКЦ - ECPv4.6.12//NONSGML v1.0//EN
CALSCALE:GREGORIAN
METHOD:PUBLISH
X-WR-CALNAME:МБУК МКЦ
X-ORIGINAL-URL:https://zmkc.ru
X-WR-CALDESC:Events for МБУК МКЦ
BEGIN:VEVENT
DTSTART;VALUE=DATE:20190313
DTEND;VALUE=DATE:20190314
DTSTAMP:20260425T222824
CREATED:20190304T073408Z
LAST-MODIFIED:20190304T073408Z
UID:2413-1552435200-1552521599@zmkc.ru
SUMMARY:Интерактивная игра «Вся правда о динозаврах!»
DESCRIPTION:14.00 ч. \n
URL:https://zmkc.ru/event/interaktivnaya-igra-vsya-pravda-o-dinozavrah/
END:VEVENT
END:VCALENDAR