BEGIN:VCALENDAR
VERSION:2.0
PRODID:-//МБУК МКЦ - ECPv4.6.12//NONSGML v1.0//EN
CALSCALE:GREGORIAN
METHOD:PUBLISH
X-WR-CALNAME:МБУК МКЦ
X-ORIGINAL-URL:https://zmkc.ru
X-WR-CALDESC:Events for МБУК МКЦ
BEGIN:VEVENT
DTSTART;VALUE=DATE:20190214
DTEND;VALUE=DATE:20190215
DTSTAMP:20260426T012301
CREATED:20190211T020847Z
LAST-MODIFIED:20190211T020847Z
UID:2268-1550102400-1550188799@zmkc.ru
SUMMARY:Интерактивная игра ко дню Святого Валентина «Как родилась Любовь?»
DESCRIPTION:
URL:https://zmkc.ru/event/interaktivnaya-igra-ko-dnyu-svyatogo-valentina-kak-rodilas-lyubov/
LOCATION:Жигулевск
END:VEVENT
END:VCALENDAR