BEGIN:VCALENDAR
VERSION:2.0
PRODID:-//МБУК МКЦ - ECPv4.6.12//NONSGML v1.0//EN
CALSCALE:GREGORIAN
METHOD:PUBLISH
X-WR-CALNAME:МБУК МКЦ
X-ORIGINAL-URL:https://zmkc.ru
X-WR-CALDESC:Events for МБУК МКЦ
BEGIN:VEVENT
DTSTART;TZID=UTC+4:20220721T140000
DTEND;TZID=UTC+4:20220721T150000
DTSTAMP:20260422T230011
CREATED:20220630T005451Z
LAST-MODIFIED:20220630T005451Z
UID:6708-1658412000-1658415600@zmkc.ru
SUMMARY:Игровая программа «Водная битва»
DESCRIPTION:
URL:https://zmkc.ru/event/igrovaya-programma-vodnaya-bitva/
LOCATION:Фрунзе 36\, Жигулевск\, Российская Федерация
END:VEVENT
END:VCALENDAR