BEGIN:VCALENDAR
VERSION:2.0
PRODID:-//МБУК МКЦ - ECPv4.6.12//NONSGML v1.0//EN
CALSCALE:GREGORIAN
METHOD:PUBLISH
X-WR-CALNAME:МБУК МКЦ
X-ORIGINAL-URL:https://zmkc.ru
X-WR-CALDESC:Events for МБУК МКЦ
BEGIN:VEVENT
DTSTART;TZID=UTC+4:20220601T120000
DTEND;TZID=UTC+4:20220601T130000
DTSTAMP:20260422T122025
CREATED:20220524T103429Z
LAST-MODIFIED:20220524T103429Z
UID:6640-1654084800-1654088400@zmkc.ru
SUMMARY:Игровая программа  «Ура\, каникулы!»
DESCRIPTION:В День защиты детей творческий коллектив МБУК «МКЦ» приглашает детей мкрн.Яблоневый Овраг на веселую игровую программу. \n
URL:https://zmkc.ru/event/igrovaya-programma-ura-kanikulyi-3/
LOCATION:Никитина 9\, Яблоневый Овраг
ATTACH;FMTTYPE=image/jpeg:https://zmkc.ru/wp-content/uploads/2022/05/OblTd6-0ngYlEMf4YF3U9zpU_ir5HfTiLmkf_HpQ-mjPqO088TQoB_Ia8nCqLha5qp59YljmTqcuXxQsXiZ_IJY8.jpg
END:VEVENT
END:VCALENDAR