BEGIN:VCALENDAR
VERSION:2.0
PRODID:-//МБУК МКЦ - ECPv4.6.12//NONSGML v1.0//EN
CALSCALE:GREGORIAN
METHOD:PUBLISH
X-WR-CALNAME:МБУК МКЦ
X-ORIGINAL-URL:https://zmkc.ru
X-WR-CALDESC:Events for МБУК МКЦ
BEGIN:VEVENT
DTSTART;VALUE=DATE:20190114
DTEND;VALUE=DATE:20190115
DTSTAMP:20260426T042033
CREATED:20190114T061346Z
LAST-MODIFIED:20190114T061346Z
UID:2209-1547424000-1547510399@zmkc.ru
SUMMARY:Игровая программа "Прощание с Ёлкой"
DESCRIPTION:
URL:https://zmkc.ru/event/igrovaya-programma-proshhanie-s-yolkoy/
LOCATION:Никитина 9\, Яблоневый Овраг
END:VEVENT
END:VCALENDAR