BEGIN:VCALENDAR
VERSION:2.0
PRODID:-//МБУК МКЦ - ECPv4.6.12//NONSGML v1.0//EN
CALSCALE:GREGORIAN
METHOD:PUBLISH
X-WR-CALNAME:МБУК МКЦ
X-ORIGINAL-URL:https://zmkc.ru
X-WR-CALDESC:Events for МБУК МКЦ
BEGIN:VEVENT
DTSTART;TZID=UTC+4:20220720T170000
DTEND;TZID=UTC+4:20220720T180000
DTSTAMP:20260422T230711
CREATED:20220608T063108Z
LAST-MODIFIED:20220608T063108Z
UID:6687-1658336400-1658340000@zmkc.ru
SUMMARY:Игровая программа «Наше лето»
DESCRIPTION:
URL:https://zmkc.ru/event/igrovaya-programma-nashe-leto-2/
LOCATION:ул. Ленина\, 3\, Жигулевск\, Российская Федерация
END:VEVENT
END:VCALENDAR