BEGIN:VCALENDAR
VERSION:2.0
PRODID:-//МБУК МКЦ - ECPv4.6.12//NONSGML v1.0//EN
CALSCALE:GREGORIAN
METHOD:PUBLISH
X-WR-CALNAME:МБУК МКЦ
X-ORIGINAL-URL:https://zmkc.ru
X-WR-CALDESC:Events for МБУК МКЦ
BEGIN:VEVENT
DTSTART;TZID=UTC+4:20220715T170000
DTEND;TZID=UTC+4:20220715T180000
DTSTAMP:20260423T020600
CREATED:20220608T062956Z
LAST-MODIFIED:20220608T062956Z
UID:6685-1657904400-1657908000@zmkc.ru
SUMMARY:Игровая программа « Летняя страна »
DESCRIPTION:
URL:https://zmkc.ru/event/igrovaya-programma-letnyaya-strana-4/
LOCATION:ул.Радиозаводская\,18\, Жигулевск\, Самарская область\, Российская Федерация
END:VEVENT
END:VCALENDAR