BEGIN:VCALENDAR
VERSION:2.0
PRODID:-//МБУК МКЦ - ECPv4.6.12//NONSGML v1.0//EN
CALSCALE:GREGORIAN
METHOD:PUBLISH
X-WR-CALNAME:МБУК МКЦ
X-ORIGINAL-URL:https://zmkc.ru
X-WR-CALDESC:Events for МБУК МКЦ
BEGIN:VEVENT
DTSTART;TZID=UTC+0:20200920T130000
DTEND;TZID=UTC+0:20200920T153000
DTSTAMP:20260422T184101
CREATED:20200903T033029Z
LAST-MODIFIED:20200903T033029Z
UID:5132-1600606800-1600615800@zmkc.ru
SUMMARY:И. Штраус – «Летучая мышь»
DESCRIPTION:Виртуальный концертный зал г.о. Жигулевск приглашает 20 сентября в 13.00 на очередную видеотрансляцию из концертного зала имени П.И. Чайковского Московской филармонии.. \nГосударственная академическая симфоническая капелла России. \nДирижёр – Валерий Полянский. \nАнна Новикова (сопрано)\, Александр Бабик (тенор)\, Евгения Сегенюк (контральто)\, Леонид Бомштейн (тенор)\, Андрей Бреус (баритон)\, Владлен Балтинский (тенор)\, Олег Полшков (тенор)\, Юлия Томина (сопрано)\, Максим Сажин (тенор)\, Вадим Андреев\, Игорь Яцко. \nВ ПРОГРАММЕ:И. Штраус-сын«Летучая мышь» – оперетта в концертном исполнении \n
URL:https://zmkc.ru/event/i-shtraus-letuchaya-myish/
LOCATION:Вокзальная 16\, Жигулевск
ATTACH;FMTTYPE=image/jpeg:https://zmkc.ru/wp-content/uploads/2020/09/img-687212-d41d8cd98f.jpg
END:VEVENT
END:VCALENDAR