BEGIN:VCALENDAR
VERSION:2.0
PRODID:-//МБУК МКЦ - ECPv4.6.12//NONSGML v1.0//EN
CALSCALE:GREGORIAN
METHOD:PUBLISH
X-WR-CALNAME:МБУК МКЦ
X-ORIGINAL-URL:https://zmkc.ru
X-WR-CALDESC:Events for МБУК МКЦ
BEGIN:VEVENT
DTSTART;TZID=UTC+4:20260522T170000
DTEND;TZID=UTC+4:20260522T210000
DTSTAMP:20260420T032334
CREATED:20260417T125912Z
LAST-MODIFIED:20260417T130332Z
UID:9746-1779469200-1779483600@zmkc.ru
SUMMARY:🌸 ВЕСНА-ФЕСТ 2026: СЕМЬЯ\, ВЕСНА\, ПРАЗДНИК! 🌸
DESCRIPTION:Друзья\, 22 мая в Жигулёвске случится то\, ради чего стоит отложить все дела. Да-да\, тот самый фестиваль\, которого мы все ждём целый год. И в этом году он будет ещё ярче\, громче.\nVI Семейный фестиваль «Весна-ФЕСТ». \n🎉 Грандиозная концертная программа\, интересные мастер-классы\, весёлые игровые площадки — всё это приятный повод провести время всей семьёй. 👪 \n🧛‍♂🦸‍♀🧜‍♀КОНКУРС КОСПЛЕЯ \n😏 Те\, кто придут на наш фестиваль в числе первых и примут участие в различных активностях\, получат возможность поучаствовать в лотерее и выиграть призы от спонсоров. \n🤩 Специальные гости фестиваля — кавер-группа «ЗНАКОМЫЕ» 🤩\nНЕ ПРОПУСТИ!\nЭти ребята знают\, как завести толпу: живые хиты\, драйвовые голоса\, под которые хочется петь и танцевать от мала до велика. \n👉 ДАТА — 22 мая\n👉 ВРЕМЯ — с 17:00 до 21:00\n👉 МЕСТО — территория вдоль ручья по улице Никитинская\nЖдём вас всей семьёй! Будет жарко! 🔥 \n
URL:https://zmkc.ru/event/gorodskoy-semeynyiy-festival-vesna-fest-3/
LOCATION:Никитинская\,15\, Жигулевск\, Самарская область\, Российская Федерация
ATTACH;FMTTYPE=image/jpeg:https://zmkc.ru/wp-content/uploads/2026/04/DtzHhl0Qmvto0xEYW01xjU98J6koHy5WmEtGNd9uD52eJZGUHm7fw84fo7aRlMM0XmExTW4rT8KPj8DjJn-Rb01h.jpg
END:VEVENT
END:VCALENDAR