BEGIN:VCALENDAR
VERSION:2.0
PRODID:-//МБУК МКЦ - ECPv4.6.12//NONSGML v1.0//EN
CALSCALE:GREGORIAN
METHOD:PUBLISH
X-WR-CALNAME:МБУК МКЦ
X-ORIGINAL-URL:https://zmkc.ru
X-WR-CALDESC:Events for МБУК МКЦ
BEGIN:VEVENT
DTSTART;TZID=UTC+4:20250516T170000
DTEND;TZID=UTC+4:20250516T210000
DTSTAMP:20260421T044049
CREATED:20250423T132319Z
LAST-MODIFIED:20250430T064139Z
UID:9099-1747414800-1747429200@zmkc.ru
SUMMARY:Городской семейный фестиваль  «Весна - Фест»
DESCRIPTION:
URL:https://zmkc.ru/event/gorodskoy-semeynyiy-festival-vesna-fest-2/
LOCATION:Никитинская\,15\, Жигулевск\, Самарская область\, Российская Федерация
ATTACH;FMTTYPE=image/jpeg:https://zmkc.ru/wp-content/uploads/2025/04/Afisha-Vesna-Fest.jpg
END:VEVENT
END:VCALENDAR