BEGIN:VCALENDAR
VERSION:2.0
PRODID:-//МБУК МКЦ - ECPv4.6.12//NONSGML v1.0//EN
CALSCALE:GREGORIAN
METHOD:PUBLISH
X-WR-CALNAME:МБУК МКЦ
X-ORIGINAL-URL:https://zmkc.ru
X-WR-CALDESC:Events for МБУК МКЦ
BEGIN:VEVENT
DTSTART;VALUE=DATE:20200301
DTEND;VALUE=DATE:20200302
DTSTAMP:20260422T122859
CREATED:20200229T135214Z
LAST-MODIFIED:20200229T135214Z
UID:4408-1583020800-1583107199@zmkc.ru
SUMMARY:Городской праздник "Гуляй\, Масленица!"
DESCRIPTION: \n
URL:https://zmkc.ru/event/gorodskoy-prazdnik-gulyay-maslenitsa/
END:VEVENT
END:VCALENDAR