BEGIN:VCALENDAR
VERSION:2.0
PRODID:-//МБУК МКЦ - ECPv4.6.12//NONSGML v1.0//EN
CALSCALE:GREGORIAN
METHOD:PUBLISH
X-WR-CALNAME:МБУК МКЦ
X-ORIGINAL-URL:https://zmkc.ru
X-WR-CALDESC:Events for МБУК МКЦ
BEGIN:VEVENT
DTSTART;TZID=UTC+4:20210415T090000
DTEND;TZID=UTC+4:20210420T170000
DTSTAMP:20260422T091943
CREATED:20210329T120749Z
LAST-MODIFIED:20210329T120749Z
UID:5815-1618477200-1618938000@zmkc.ru
SUMMARY:Городской конкурс «Спорт в моей жизни».
DESCRIPTION:Культурно-досуговый центр для детей и подростков приглашает принять участие в Городском конкурсе творческих работ «Спорт в моей жизни». \nНоминации: \n• Поделка (бумага\, ткань\, картон\, пластилин\, природный или бросовый материал и т.д.); \n• Рисунок – может быть выполнен при помощи различных материалов (гуашь\, акварель\, пастель\, гелиевые ручки\, карандаши\, уголь\, масло и т.д.) в формате А4 и А3; \n• Фотография. На конкурс фотографий принимаются цветные фото\, хорошего качества\, формата А4 (20*30см). На фото обязательно должен быть участник\, подавший заявку! Фото должно быть не старше 1 года.(На конкурс не принимаются фотографии: плохого качества\, смазанные\, нечеткие; не соответствующие тематике конкурса; обработанные в графическом редакторе; фотографии\, на которые нанесен адрес или логотип другого сайта.) \nНа конкурс принимаются творческие работы\, разнообразные по своей тематике и технике выполнения\, по следующим темам: \n• Жить – здорово! \n• Закаляйся\, если хочешь быть здоров! \n• «Мама\, папа\, я – спортивная семья!» \n• «Спортивная компания» (групповые фото\, в заявке в графе «участник» указывать название команды\, группы или номер класса); \n• Танцы – это тоже спорт! \n• «Дорогу чемпиону» — фото или рисунки детей с медалями и кубками; \n• Мой любимый вид спорта. \nКаждая работа должна быть подписана (ФИО ребенка\, возраст\, школа/ детский сад\, класс). Неподписанные работы на конкурс не принимаются. \nВсе вопросы по конкурсу можно задать по тел. 8(84862)24903. \nПодробные условия участия и образец заявки в Положении. \n
URL:https://zmkc.ru/event/gorodskoy-konkurs-sport-v-moey-zhizni/
LOCATION:Вокзальная 16\, Жигулевск
ATTACH;FMTTYPE=image/jpeg:https://zmkc.ru/wp-content/uploads/2021/03/wRQnqhLoots.jpg
END:VEVENT
END:VCALENDAR