BEGIN:VCALENDAR
VERSION:2.0
PRODID:-//МБУК МКЦ - ECPv4.6.12//NONSGML v1.0//EN
CALSCALE:GREGORIAN
METHOD:PUBLISH
X-WR-CALNAME:МБУК МКЦ
X-ORIGINAL-URL:https://zmkc.ru
X-WR-CALDESC:Events for МБУК МКЦ
BEGIN:VEVENT
DTSTART;VALUE=DATE:20201005
DTEND;VALUE=DATE:20201010
DTSTAMP:20260422T172054
CREATED:20201002T083405Z
LAST-MODIFIED:20201002T083405Z
UID:5175-1601856000-1602287999@zmkc.ru
SUMMARY:Городской конкурс поделок из свежих овощей «Овощной переполох»
DESCRIPTION: В связи с эпидемиологической ситуацией\, конкурс проводится в дистанционном формате. Участникам нужно в срок с 5 по 9 октября прислать фотографии своих поделок вместе с заявкой и согласием на обработку персональных данных на электронный адрес kdc2002@mail.ru или принести лично по адресу ул. Вокзальная\, д.16\, кабинет №35. Фотографии должны быть хорошего качества и сделаны осенью 2020 года. \n Работы выполняются по трем номинациям.: \n1. Овощ – великан. \n2. Сказочный овощ. \n3. Овощная семья. \nРаботы участников оценивает жюри конкурса по трем возрастным категориям: 1. Дошкольный возраст. 2. Младший школьный возраст. 3. Старший школьный возраст. \n16 октября состоится торжественное награждение победителей.  \nБолее подробно с Положением по конкурсу можно ознакомиться здесь. \n
URL:https://zmkc.ru/event/gorodskoy-konkurs-podelok-iz-svezhih-ovoshhey-ovoshhnoy-perepoloh/
LOCATION:Вокзальная 16\, Жигулевск
ATTACH;FMTTYPE=image/jpeg:https://zmkc.ru/wp-content/uploads/2020/10/2853045662.jpg
END:VEVENT
END:VCALENDAR