BEGIN:VCALENDAR
VERSION:2.0
PRODID:-//МБУК МКЦ - ECPv4.6.12//NONSGML v1.0//EN
CALSCALE:GREGORIAN
METHOD:PUBLISH
X-WR-CALNAME:МБУК МКЦ
X-ORIGINAL-URL:https://zmkc.ru
X-WR-CALDESC:Events for МБУК МКЦ
BEGIN:VEVENT
DTSTART;VALUE=DATE:20200817
DTEND;VALUE=DATE:20200914
DTSTAMP:20260422T121139
CREATED:20200817T125101Z
LAST-MODIFIED:20200831T141531Z
UID:5074-1597622400-1600041599@zmkc.ru
SUMMARY:Городской конкурс «Летние фантазии»
DESCRIPTION:В конкурсе принимают участие все желающие.Номинации конкурса: \n1. «Цветущий двор» (для многоквартирных домов) \n2. «Мой дом» (для частного сектора) \n3. «Оформление игровой площадки» (для детских садов) \nДля участия в конкурсе нужно принести заявку и фото и/или видеоролик на USB-флеш-накопителе (по адресу Вокзальная\, 16\, КДЦ\, каб. 34\,)\, на котором изображена площадка или придомовая территория. А также оплатить организационный взнос – 50 рублей с КАЖДОГО участника. \nКритерии оценок конкурсных работ: \n· Проявление творческой инициативы жителей в эстетическом оформлении цветников/клумб\, ограждений. \n· Наличие оригинальных конструкций\, лавочек\, качелей\, каруселей\, беседок и т.д. \n· Наличие освещения у подъездов многоквартирного дома. \n· Опрятный внешний вид всех элементов фасадов здания.· Наличие мест отдыха (беседок\, скамеек)\, урн для мусора. \n· Наличие красиво оформленных клумб\, газонов и иных насаждений и их содержание.· Оригинальность оформления придомового участка. Подробнее в Положении \n
URL:https://zmkc.ru/event/gorodskoy-konkurs-letnie-fantazii/
ATTACH;FMTTYPE=image/jpeg:https://zmkc.ru/wp-content/uploads/2020/08/ng7nk.jpg
END:VEVENT
END:VCALENDAR