BEGIN:VCALENDAR
VERSION:2.0
PRODID:-//МБУК МКЦ - ECPv4.6.12//NONSGML v1.0//EN
CALSCALE:GREGORIAN
METHOD:PUBLISH
X-WR-CALNAME:МБУК МКЦ
X-ORIGINAL-URL:https://zmkc.ru
X-WR-CALDESC:Events for МБУК МКЦ
BEGIN:VEVENT
DTSTART;VALUE=DATE:20190226
DTEND;VALUE=DATE:20190227
DTSTAMP:20260426T012226
CREATED:20190212T025920Z
LAST-MODIFIED:20190212T025920Z
UID:2304-1551139200-1551225599@zmkc.ru
SUMMARY:Городской конкурс чтецов  «Самарской губернии посвящается!»
DESCRIPTION:
URL:https://zmkc.ru/event/gorodskoy-konkurs-chtetsov-samarskoy-gubernii-posvyashhaetsya/
LOCATION:Вокзальная 16\, Жигулевск
END:VEVENT
END:VCALENDAR