BEGIN:VCALENDAR
VERSION:2.0
PRODID:-//МБУК МКЦ - ECPv4.6.12//NONSGML v1.0//EN
CALSCALE:GREGORIAN
METHOD:PUBLISH
X-WR-CALNAME:МБУК МКЦ
X-ORIGINAL-URL:https://zmkc.ru
X-WR-CALDESC:Events for МБУК МКЦ
BEGIN:VEVENT
DTSTART;VALUE=DATE:20190315
DTEND;VALUE=DATE:20190316
DTSTAMP:20260425T205901
CREATED:20190304T072436Z
LAST-MODIFIED:20190304T072436Z
UID:2393-1552608000-1552694399@zmkc.ru
SUMMARY:Городской конкурс частушек "Скоро вишня расцветет!"
DESCRIPTION: \n
URL:https://zmkc.ru/event/gorodskoy-konkurs-chastushek-skoro-vishnya-rastsvetet/
LOCATION:Вокзальная 16\, Жигулевск
END:VEVENT
END:VCALENDAR