BEGIN:VCALENDAR
VERSION:2.0
PRODID:-//МБУК МКЦ - ECPv4.6.12//NONSGML v1.0//EN
CALSCALE:GREGORIAN
METHOD:PUBLISH
X-WR-CALNAME:МБУК МКЦ
X-ORIGINAL-URL:https://zmkc.ru
X-WR-CALDESC:Events for МБУК МКЦ
BEGIN:VEVENT
DTSTART;VALUE=DATE:20200817
DTEND;VALUE=DATE:20200823
DTSTAMP:20260422T115157
CREATED:20200817T123048Z
LAST-MODIFIED:20200817T123048Z
UID:5070-1597622400-1598140799@zmkc.ru
SUMMARY:Городская акция «Наш триколор»
DESCRIPTION:Для участия в акции нужно прислать на почту kdc2002@mail.ru фото рисунка на асфальте\, который бы объединял в себе символику Российской Федерации и прославлял Победу и участников Великой Отечественной войны.Обязательно указать в теме сообщения: «Акция ко Дню Российского Флага».Также в сообщении необходимо указать ФИО участника и организацию (если это поздравление от организации).Принимая участие в акции\, Вы автоматически даете согласие на обработку персональных данных.Фото работ будут публиковаться на странице КДЦ ВКонтакте. Самые лучшие работы будут отмечены благодарственными письмами от МБУК «МКЦ» и Отдела культуры Управления социального развития администрации г.о.Жигулевск. \n
URL:https://zmkc.ru/event/gorodskaya-aktsiya-nash-trikolor/
LOCATION:Вокзальная 16\, Жигулевск
ATTACH;FMTTYPE=image/jpeg:https://zmkc.ru/wp-content/uploads/2020/08/Aktsiya-DRF.jpg
END:VEVENT
END:VCALENDAR