BEGIN:VCALENDAR
VERSION:2.0
PRODID:-//МБУК МКЦ - ECPv4.6.12//NONSGML v1.0//EN
CALSCALE:GREGORIAN
METHOD:PUBLISH
X-WR-CALNAME:МБУК МКЦ
X-ORIGINAL-URL:https://zmkc.ru
X-WR-CALDESC:Events for МБУК МКЦ
BEGIN:VEVENT
DTSTART;VALUE=DATE:20200715
DTEND;VALUE=DATE:20200721
DTSTAMP:20260422T133455
CREATED:20200715T153645Z
LAST-MODIFIED:20200715T154536Z
UID:4994-1594771200-1595289599@zmkc.ru
SUMMARY:Городская акция ко Дню Самарской символики
DESCRIPTION:17 июля празднуется День Самарской символики ?? \nКультурно-досуговый центр для детей и подростков запускает Городскую акцию. Создай видео \nролик под гимн Самарской области\, который будет включать кадры красивых мест и символов Самарской области и принимай участие? \nВсе условия в Положении  \n\nhttp://zmkc.ru/wp-content/uploads/2020/07/Gimn-Samarskoy-oblasti-Gimn-Samarskoy-oblasti_Audio-VK4.ru_.mp3\n  \n
URL:https://zmkc.ru/event/gorodskaya-aktsiya-ko-dnyu-samarskoy-simvoliki/
LOCATION:Вокзальная 16\, Жигулевск
ATTACH;FMTTYPE=image/jpeg:https://zmkc.ru/wp-content/uploads/2020/07/ZRD2VrLYGuY.jpg
END:VEVENT
END:VCALENDAR