BEGIN:VCALENDAR
VERSION:2.0
PRODID:-//МБУК МКЦ - ECPv4.6.12//NONSGML v1.0//EN
CALSCALE:GREGORIAN
METHOD:PUBLISH
X-WR-CALNAME:МБУК МКЦ
X-ORIGINAL-URL:https://zmkc.ru
X-WR-CALDESC:Events for МБУК МКЦ
BEGIN:VEVENT
DTSTART;TZID=UTC+4:20220331T170000
DTEND;TZID=UTC+4:20220331T190000
DTSTAMP:20260422T105017
CREATED:20220319T032538Z
LAST-MODIFIED:20220319T032538Z
UID:6517-1648746000-1648753200@zmkc.ru
SUMMARY:Гала-концерт «Таланты Жигулей»
DESCRIPTION:27 марта в Многофункциональном культурном центре (мкрн.Яблоневый Овраг) состоялся отборочный тур II Городского (открытого) вокального конкурса «Таланты Жигулей». В этом году участников уже было значительно больше. Невероятное количество талантливых детей\, принявших участие в конкурсе\, вызывает чувство гордости за малую Родину.  \nПо результатам отборочного тура лучшие номера были отобраны для участия в гала-концерте конкурса\, на котором и состоится награждение победителей. Имена Лауреатов не разглашаются до самой церемонии награждения. \n
URL:https://zmkc.ru/event/gala-kontsert-talantyi-zhiguley/
LOCATION:Вокзальная 16\, Жигулевск
ATTACH;FMTTYPE=image/jpeg:https://zmkc.ru/wp-content/uploads/2022/03/mbR9RBKBp-k-1.jpg
END:VEVENT
END:VCALENDAR