BEGIN:VCALENDAR
VERSION:2.0
PRODID:-//МБУК МКЦ - ECPv4.6.12//NONSGML v1.0//EN
CALSCALE:GREGORIAN
METHOD:PUBLISH
X-WR-CALNAME:МБУК МКЦ
X-ORIGINAL-URL:https://zmkc.ru
X-WR-CALDESC:Events for МБУК МКЦ
BEGIN:VEVENT
DTSTART;TZID=UTC+4:20260327T180000
DTEND;TZID=UTC+4:20260327T200000
DTSTAMP:20260421T101758
CREATED:20260304T135606Z
LAST-MODIFIED:20260304T135606Z
UID:9652-1774634400-1774641600@zmkc.ru
SUMMARY:Гала-концерт "Таланты Жигулей" 2026
DESCRIPTION:
URL:https://zmkc.ru/event/gala-kontsert-talantyi-zhiguley-2026/
LOCATION:Никитина 9\, Яблоневый Овраг\, Российская Федерация
END:VEVENT
END:VCALENDAR