BEGIN:VCALENDAR
VERSION:2.0
PRODID:-//МБУК МКЦ - ECPv4.6.12//NONSGML v1.0//EN
CALSCALE:GREGORIAN
METHOD:PUBLISH
X-WR-CALNAME:МБУК МКЦ
X-ORIGINAL-URL:https://zmkc.ru
X-WR-CALDESC:Events for МБУК МКЦ
BEGIN:VEVENT
DTSTART;VALUE=DATE:20250827
DTEND;VALUE=DATE:20250903
DTSTAMP:20260419T210127
CREATED:20250827T075829Z
LAST-MODIFIED:20250827T075829Z
UID:9271-1756252800-1756857599@zmkc.ru
SUMMARY:ФОТОКОНКУРС
DESCRIPTION:📸 ДРУЗЬЯ ❗ ВНИМАНИЕ ❗ КОНКУРС 📸 \n \n💥 Приглашаем всех желающих поучаствовать в СЕМЕЙНОМ ФОТОКОНКУРСЕ📸 «Я. Мы. Лето!»📸\n☝ Условия очень простые❗\n✅ Доставайте из коллекции любимые фотографии с вашего семейного летнего отдыха и присылайте нам 😉\n🙃 количество работ от каждого участника — не ограничено❗\n☝ Фото и заявки присылайте на нашу электронную почту dk.luch@mail.ru (тел. 3-50-88; 88486235088)\n❗❗❗Участие БЕСПЛАТНОЕ❗❗❗ \n \n🌸 Награждение победителей конкурса состоится на Городском семейном фестивале «Мы ВМЕСТЕ!» 6 сентября в 16.00 в Парке «Александровский» (мкрн. Александровское Поле) 😃 \n \n👇👇👇подробности в ПОЛОЖЕНИИ 👇👇👇 \nПоложение фотоконкурса Я.Мы.Лето \n
URL:https://zmkc.ru/event/fotokonkurs/
ATTACH;FMTTYPE=image/jpeg:https://zmkc.ru/wp-content/uploads/2025/08/ycTdgHicRxAjKes2zxWsHI9nh1U2ebAJVMLu5kr1YXVad1qv8Xl8XGeolwI8FINFJdO1XyIQMplHI-vIpCLxIQLG.jpg
END:VEVENT
END:VCALENDAR