BEGIN:VCALENDAR
VERSION:2.0
PRODID:-//МБУК МКЦ - ECPv4.6.12//NONSGML v1.0//EN
CALSCALE:GREGORIAN
METHOD:PUBLISH
X-WR-CALNAME:МБУК МКЦ
X-ORIGINAL-URL:https://zmkc.ru
X-WR-CALDESC:Events for МБУК МКЦ
BEGIN:VEVENT
DTSTART;TZID=UTC+4:20210221T120000
DTEND;TZID=UTC+4:20210221T170000
DTSTAMP:20260422T102057
CREATED:20210219T045937Z
LAST-MODIFIED:20210219T045937Z
UID:5698-1613908800-1613926800@zmkc.ru
SUMMARY:Фестиваль "Жигулевская Зима-2021"
DESCRIPTION:В этом году в селе Ширяево впервые проводится фестиваль «Жигулевская зима». \nЭтим фестивалем  закладываются новые традиции по сохранению и популяризации природного и культурного наследия Самарской Луки\, неслучайно площадкой проведения фестиваля выбрана поляна близ Винного ключа в селе Ширяево. Среди заснеженных Жигулевских гор\, вблизи медленных холодных зимних вод великой реки Волги засверкают своими гранями герои легенд и былей Жигулей — превращенные в ледяные фигуры виртуозными резчиками\, приехавшими из разных уголков России. С 15 февраля идет подготовка к этому мероприятию .За это время конкурсанты должны вырезать изо льда свои ледяные шедевры. В конце праздника огласят победителя победителя и вручат ему заслуженный приз. \nТакже гости фестиваля станут свидетелями показательных выступлений каюров и их собак\, ставших героями множества славных историй международной гонки на собачьих упряжках «Волга-квест». В 13:00 начнутся показательные выступление\, после которых можно будет сфотографироваться с ездовыми собаками и даже прокатиться на них. \nПесни\, прославляющие эти заповедные места\, раскроют все тайны\, которыми окутана Самарская Лука. Для гостей фестиваля выступят творческие коллективы городского округа Жигулевск и приглашенные гости. \nС 12:00-16:00 будут работать следующие тематические площадки:\n— Мастер-класс «Заповедный урок» по изготовлению сувениров проведет жигулевский заповедник И.И. Спрыгина;\n— Клуб «Волга-Дискавери» приглашает на мастер-класс по копчению волжской рыбы;\nДля детей будет работать площадка с зимними играми и забавами. \nБерите с собой хорошее настроение и приезжайте в Ширяево! Будет весело! \n
URL:https://zmkc.ru/event/festival-zhigulevskaya-zima-2021/
ATTACH;FMTTYPE=image/jpeg:https://zmkc.ru/wp-content/uploads/2021/02/muyulwPZZvY.jpg
END:VEVENT
END:VCALENDAR