BEGIN:VCALENDAR
VERSION:2.0
PRODID:-//МБУК МКЦ - ECPv4.6.12//NONSGML v1.0//EN
CALSCALE:GREGORIAN
METHOD:PUBLISH
X-WR-CALNAME:МБУК МКЦ
X-ORIGINAL-URL:https://zmkc.ru
X-WR-CALDESC:Events for МБУК МКЦ
BEGIN:VEVENT
DTSTART;TZID=UTC+4:20210429T170000
DTEND;TZID=UTC+4:20210429T190000
DTSTAMP:20260422T090255
CREATED:20210417T032335Z
LAST-MODIFIED:20210417T032335Z
UID:5887-1619715600-1619722800@zmkc.ru
SUMMARY:Фестиваль «Праздник танца»
DESCRIPTION:29 апреля весь танцующий мир отмечает свой профессиональный праздник — Международный день танца. Традиционно в этот день Многофункциональный культурный центр проводит Открытый городской фестиваль детского хореографического искусства. \nУчастниками Фестиваля могут стать: хореографические ансамбли и хореографические коллективы г.о.Жигулевск\, в которых занимаются дети в возрасте от 7 лет и старше. Коллективы должны представить по одному номеру. Все участники получают звание Лауреата Фестиваля. \nДля участия в Фестивале необходимо подать заявку по адресу: ул. Никитина\, д.9 до 23 апреля 2021 г.\, каб.19\, ежедневно (кроме субботы и воскресенья) с 9.00 до 17.00\, тел. 8(84862)32-9-03 или по электронной почте: mbuk-mkc@mail.ru. \nОбразец заявки в Положении фестиваля. \n
URL:https://zmkc.ru/event/festival-prazdnik-tantsa/
LOCATION:Никитина 9\, Яблоневый Овраг\, Российская Федерация
ATTACH;FMTTYPE=image/jpeg:https://zmkc.ru/wp-content/uploads/2021/04/0d26a0_e2dcf78a9f9242c08e6c91606729e66c_mv2.jpg
END:VEVENT
END:VCALENDAR