BEGIN:VCALENDAR
VERSION:2.0
PRODID:-//МБУК МКЦ - ECPv4.6.12//NONSGML v1.0//EN
CALSCALE:GREGORIAN
METHOD:PUBLISH
X-WR-CALNAME:МБУК МКЦ
X-ORIGINAL-URL:https://zmkc.ru
X-WR-CALDESC:Events for МБУК МКЦ
BEGIN:VEVENT
DTSTART;TZID=UTC+4:20201004T130000
DTEND;TZID=UTC+4:20201004T153000
DTSTAMP:20260422T184624
CREATED:20201003T020506Z
LAST-MODIFIED:20201003T020533Z
UID:5181-1601816400-1601825400@zmkc.ru
SUMMARY:Евгений Онегин
DESCRIPTION:Виртуальный концертный зал приглашает 4 октября в 13.00 на оперу в концертном исполнении. \nВ ПРОГРАММЕ:\nП. И. Чайковский\n«Евгений Онегин»\, опера в концертном исполнении\nКонстантин Шушаков (баритон) \nМарина Ребека (сопрано) \nАйгуль Ахметшина (меццо-сопрано) \nАлексей Неклюдов (тенор) \nОлег Цыбулько (бас) \nМария Горцевская (меццо-сопрано) \nАлександра Саульская-Шулятьева (меццо-сопрано) \nЯрослав Абаимов (тенор) \nДаниил Чесноков (бас) \nГосударственный академический симфонический оркестр России имени Е. Ф. Светланова. \nДирижёр – Василий Синайский \nВокальный ансамбль Intrada \n
URL:https://zmkc.ru/event/evgeniy-onegin/
LOCATION:Вокзальная 16\, Жигулевск
ATTACH;FMTTYPE=image/jpeg:https://zmkc.ru/wp-content/uploads/2020/10/img-645989-d41d8cd98f.jpg
END:VEVENT
END:VCALENDAR