BEGIN:VCALENDAR
VERSION:2.0
PRODID:-//МБУК МКЦ - ECPv4.6.12//NONSGML v1.0//EN
CALSCALE:GREGORIAN
METHOD:PUBLISH
X-WR-CALNAME:МБУК МКЦ
X-ORIGINAL-URL:https://zmkc.ru
X-WR-CALDESC:Events for МБУК МКЦ
BEGIN:VEVENT
DTSTART;VALUE=DATE:20200214
DTEND;VALUE=DATE:20200215
DTSTAMP:20260422T171452
CREATED:20200124T061055Z
LAST-MODIFIED:20200124T061055Z
UID:4230-1581638400-1581724799@zmkc.ru
SUMMARY:Дискотека
DESCRIPTION:14 февраля в 18.00 МБУК «МКЦ»(мкр. Яблоневый Овраг) приглашает на зажигательную дискотеку «Happy Valentine parti». \n
URL:https://zmkc.ru/event/diskoteka/
LOCATION:Никитина 9\, Яблоневый Овраг\, Российская Федерация
END:VEVENT
END:VCALENDAR