BEGIN:VCALENDAR
VERSION:2.0
PRODID:-//МБУК МКЦ - ECPv4.6.12//NONSGML v1.0//EN
CALSCALE:GREGORIAN
METHOD:PUBLISH
X-WR-CALNAME:МБУК МКЦ
X-ORIGINAL-URL:https://zmkc.ru
X-WR-CALDESC:Events for МБУК МКЦ
BEGIN:VEVENT
DTSTART;VALUE=DATE:20190214
DTEND;VALUE=DATE:20190215
DTSTAMP:20260426T012811
CREATED:20190211T020923Z
LAST-MODIFIED:20190211T020923Z
UID:2270-1550102400-1550188799@zmkc.ru
SUMMARY:Дискотека ко Дню влюбленных «Valentines Dance» (Платное)
DESCRIPTION:
URL:https://zmkc.ru/event/diskoteka-ko-dnyu-vlyublennyih-valentines-dance-platnoe/
LOCATION:Никитина 9\, Яблоневый Овраг\, Российская Федерация
END:VEVENT
END:VCALENDAR