BEGIN:VCALENDAR
VERSION:2.0
PRODID:-//МБУК МКЦ - ECPv4.6.12//NONSGML v1.0//EN
CALSCALE:GREGORIAN
METHOD:PUBLISH
X-WR-CALNAME:МБУК МКЦ
X-ORIGINAL-URL:https://zmkc.ru
X-WR-CALDESC:Events for МБУК МКЦ
BEGIN:VEVENT
DTSTART;VALUE=DATE:20190315
DTEND;VALUE=DATE:20190316
DTSTAMP:20260425T221551
CREATED:20190304T073526Z
LAST-MODIFIED:20190304T073526Z
UID:2418-1552608000-1552694399@zmkc.ru
SUMMARY:Дискотека 18.00
DESCRIPTION:
URL:https://zmkc.ru/event/diskoteka-18-00/
LOCATION:Никитина 9\, Яблоневый Овраг\, Российская Федерация
END:VEVENT
END:VCALENDAR