BEGIN:VCALENDAR
VERSION:2.0
PRODID:-//МБУК МКЦ - ECPv4.6.12//NONSGML v1.0//EN
CALSCALE:GREGORIAN
METHOD:PUBLISH
X-WR-CALNAME:МБУК МКЦ
X-ORIGINAL-URL:https://zmkc.ru
X-WR-CALDESC:Events for МБУК МКЦ
BEGIN:VEVENT
DTSTART;TZID=UTC+4:20250611T173000
DTEND;TZID=UTC+4:20250611T183000
DTSTAMP:20260422T094557
CREATED:20250611T071606Z
LAST-MODIFIED:20250611T071606Z
UID:9153-1749663000-1749666600@zmkc.ru
SUMMARY:День России
DESCRIPTION:
URL:https://zmkc.ru/event/den-rossii-2/
LOCATION:Морквашинская 53\, Жигулевск\, Самарская область\, Российская Федерация
ATTACH;FMTTYPE=image/jpeg:https://zmkc.ru/wp-content/uploads/2025/06/Afisha-Den-Rossii.jpg
END:VEVENT
END:VCALENDAR