BEGIN:VCALENDAR
VERSION:2.0
PRODID:-//МБУК МКЦ - ECPv4.6.12//NONSGML v1.0//EN
CALSCALE:GREGORIAN
METHOD:PUBLISH
X-WR-CALNAME:МБУК МКЦ
X-ORIGINAL-URL:https://zmkc.ru
X-WR-CALDESC:Events for МБУК МКЦ
BEGIN:VEVENT
DTSTART;TZID=UTC+4:20220914T103000
DTEND;TZID=UTC+4:20220914T113000
DTSTAMP:20260423T003325
CREATED:20220912T123645Z
LAST-MODIFIED:20220912T123645Z
UID:6800-1663151400-1663155000@zmkc.ru
SUMMARY:День открытых дверей
DESCRIPTION:Все желающие могут познакомиться с работой клубных формирований МБУК «МКЦ» \n
URL:https://zmkc.ru/event/den-otkryityih-dverey-2/
LOCATION:Никитина 9\, Яблоневый Овраг\, Российская Федерация
END:VEVENT
END:VCALENDAR