BEGIN:VCALENDAR
VERSION:2.0
PRODID:-//МБУК МКЦ - ECPv4.6.12//NONSGML v1.0//EN
CALSCALE:GREGORIAN
METHOD:PUBLISH
X-WR-CALNAME:МБУК МКЦ
X-ORIGINAL-URL:https://zmkc.ru
X-WR-CALDESC:Events for МБУК МКЦ
BEGIN:VEVENT
DTSTART;TZID=UTC+4:20220105T130000
DTEND;TZID=UTC+4:20220105T140000
DTSTAMP:20260422T133157
CREATED:20211229T020342Z
LAST-MODIFIED:20211229T020342Z
UID:6383-1641387600-1641391200@zmkc.ru
SUMMARY:Дед Мороз в каждый двор
DESCRIPTION:В отдаленных районах  Жигулёвска в новогодние праздники Многофункциональный культурный центр проводит театрализованные игровые программы в рамках акции «Дед Мороз в каждый двор». \nПраздничная музыка и весёлые конкурсы в компании всеми любимых Деда Мороза и Снегурочки ожидают юных жигулевцев и их родителей.  Сказочный волшебник с внучкой   порадуют ребят и взрослых микрорайонов Александровское поле\, Яблоневый Овраг\, Моркваши \, В-1 и В-3. Веселые игры и зажигательные танцы продлят ощущение праздника еще на очень долгое время. \n
URL:https://zmkc.ru/event/ded-moroz-v-kazhdyiy-dvor-6/
LOCATION:Никитина 9\, Яблоневый Овраг
ATTACH;FMTTYPE=image/jpeg:https://zmkc.ru/wp-content/uploads/2021/12/DSC_0135.jpg
END:VEVENT
END:VCALENDAR