BEGIN:VCALENDAR
VERSION:2.0
PRODID:-//МБУК МКЦ - ECPv4.6.12//NONSGML v1.0//EN
CALSCALE:GREGORIAN
METHOD:PUBLISH
X-WR-CALNAME:МБУК МКЦ
X-ORIGINAL-URL:https://zmkc.ru
X-WR-CALDESC:Events for МБУК МКЦ
BEGIN:VEVENT
DTSTART;TZID=UTC+4:20201123T090000
DTEND;TZID=UTC+4:20201125T170000
DTSTAMP:20260422T133024
CREATED:20201108T020156Z
LAST-MODIFIED:20201108T020156Z
UID:5319-1606122000-1606323600@zmkc.ru
SUMMARY:«Букет для мамы»
DESCRIPTION:Культурно-досуговый центр для детей и подростков приглашает всех желающих принять участие в городском конкурсе творческих работ «Букет для мамы». \nНоминации конкурса: \n1. Поделка (бумага\, ткань\, картон\, пластилин\, цветы\, сухоцветы\, овощи или фрукты\, природный или бросовый материал и т.д.). \n2.Объемная аппликация – неплоские изображения\, приклеенные к основе. \nКонкурсные работы с заявкой на участие и согласием на обработку персональных данных принимаются только в отпечатанном виде вместе с поделками  с 23 ноября по 25 ноября по адресу ул. Вокзальная\,16\, каб. №34\,35 (Приложение № 1\, Приложение №2) Телефон для справок: 2-49-03. \nПодробные условия участия в Положении по конкурсу. \n
URL:https://zmkc.ru/event/buket-dlya-mamyi/
LOCATION:Вокзальная 16\, Жигулевск
ATTACH;FMTTYPE=image/jpeg:https://zmkc.ru/wp-content/uploads/2020/11/0-wWydBlCB0.jpg
END:VEVENT
END:VCALENDAR