BEGIN:VCALENDAR
VERSION:2.0
PRODID:-//МБУК МКЦ - ECPv4.6.12//NONSGML v1.0//EN
CALSCALE:GREGORIAN
METHOD:PUBLISH
X-WR-CALNAME:МБУК МКЦ
X-ORIGINAL-URL:https://zmkc.ru
X-WR-CALDESC:Events for МБУК МКЦ
BEGIN:VEVENT
DTSTART;VALUE=DATE:20220309
DTEND;VALUE=DATE:20220312
DTSTAMP:20260422T104802
CREATED:20220211T050712Z
LAST-MODIFIED:20220216T034856Z
UID:6446-1646784000-1647043199@zmkc.ru
SUMMARY:Букет для мамы
DESCRIPTION:Культурно-досуговый центр для детей и подростков объявляет конкурс\, посвященный Международному женскому дню. Участникам необходимо изготовить букет цветов\, соответствующий одной из номинаций: \n·        Поделка (бумага\, ткань\, картон\, пластилин\, цветы\, сухоцветы\, овощи или фрукты\, природный или бросовый материал и т.д.) \n·        Объемная аппликация – неплоские изображения\, приклеенные к основе. \nВ конкурсе принимают участие все желающие. \n Максимальное количество работ: две работы от каждого участника в номинации. \n Организатор конкурса оставляет за собой право при большом количестве заявок прекратить их приём досрочно. \nПодробные условия участия в Положении \nПоложение конкурса Букет для мамы 2022 \n
URL:https://zmkc.ru/event/buket-dlya-mamyi-2/
LOCATION:Вокзальная 16\, Жигулевск
ATTACH;FMTTYPE=image/jpeg:https://zmkc.ru/wp-content/uploads/2022/02/72eRpkZHheM-1024x1024.jpg
END:VEVENT
END:VCALENDAR