BEGIN:VCALENDAR
VERSION:2.0
PRODID:-//МБУК МКЦ - ECPv4.6.12//NONSGML v1.0//EN
CALSCALE:GREGORIAN
METHOD:PUBLISH
X-WR-CALNAME:МБУК МКЦ
X-ORIGINAL-URL:https://zmkc.ru
X-WR-CALDESC:Events for МБУК МКЦ
BEGIN:VEVENT
DTSTART;TZID=UTC+4:20210823T170000
DTEND;TZID=UTC+4:20210823T180000
DTSTAMP:20260422T200936
CREATED:20210818T004907Z
LAST-MODIFIED:20210818T004907Z
UID:6125-1629738000-1629741600@zmkc.ru
SUMMARY:Акция "Мы патриоты"
DESCRIPTION:23 августа в 17.00 на площади «Слава Труду» (мкрн.Яблоневый Овраг) в рамках празднования Дня города пройдет патриотическая акция. В программе: аквагрим\, танцевальный флешмоб\, викторина\, спортивная эстафета. \n
URL:https://zmkc.ru/event/aktsiya-myi-patriotyi/
LOCATION:Никитина 9\, Яблоневый Овраг
ATTACH;FMTTYPE=image/jpeg:https://zmkc.ru/wp-content/uploads/2021/08/0ZIZ47LdiVQ.jpg
END:VEVENT
END:VCALENDAR