BEGIN:VCALENDAR
VERSION:2.0
PRODID:-//МБУК МКЦ - ECPv4.6.12//NONSGML v1.0//EN
CALSCALE:GREGORIAN
METHOD:PUBLISH
X-WR-CALNAME:МБУК МКЦ
X-ORIGINAL-URL:https://zmkc.ru
X-WR-CALDESC:Events for МБУК МКЦ
BEGIN:VEVENT
DTSTART;TZID=UTC+4:20260306T180000
DTEND;TZID=UTC+4:20260306T210000
DTSTAMP:20260421T100920
CREATED:20260304T140335Z
LAST-MODIFIED:20260304T140350Z
UID:9654-1772820000-1772830800@zmkc.ru
SUMMARY:ЭХО ВЕСНЫ
DESCRIPTION:🌸ТОТ САМЫЙ «ГОЛУБОЙ ОГОНЕК»\, только ВЕСЕННИЙ🌸 \nЗабудьте о рутине! Мы готовим для вас яркий вечер в честь Международного женского дня «Эхо весны»! Вас ждёт настоящий коктейль из эмоций: душевная программа\, безудержные танцы и море сюрпризов!🎁🎶💃🪩 \nГде и когда заряжаемся весенним настроением?\n🗓 6 МАРТА | 🕕 18:00 | 🏠 ул. Никитина\, 9 (ДК Яблоневого оврага) \nВ программе:\n✅ Классная праздничная программа\n✅ Ведущий\, который не даст заскучать\n✅ Диджей\, от которого ноги в пляс идут\n✅ Конкурсы\, где можно блеснуть талантом\n✅ Розыгрыши призов — проверим\, кому сегодня везёт! \nВход — 400 рублей. \nВажно! Места за столами необходимо бронировать заранее:\n☎️ 8-963-918-35-91 \n
URL:https://zmkc.ru/event/9654/
LOCATION:Никитина 9\, Яблоневый Овраг\, Российская Федерация
ATTACH;FMTTYPE=image/jpeg:https://zmkc.ru/wp-content/uploads/2026/03/kWqw1YsDqnxxuvMawAfWUYzknUB3IYZYmqaAXmmwN0tJhRI71vRQWXoJ3rghj5KQ_2qL_c6adV63z1JdRy7kZNfm.jpg
END:VEVENT
END:VCALENDAR